BEGIN:VCALENDAR
VERSION:2.0
PRODID:-//Antonello Marafioti - ECPv6.15.20//NONSGML v1.0//EN
CALSCALE:GREGORIAN
METHOD:PUBLISH
X-WR-CALNAME:Antonello Marafioti
X-ORIGINAL-URL:https://www.marafioti-jazz-berlin.de
X-WR-CALDESC:Events for Antonello Marafioti
REFRESH-INTERVAL;VALUE=DURATION:PT1H
X-Robots-Tag:noindex
X-PUBLISHED-TTL:PT1H
BEGIN:VTIMEZONE
TZID:Europe/Berlin
BEGIN:DAYLIGHT
TZOFFSETFROM:+0100
TZOFFSETTO:+0200
TZNAME:CEST
DTSTART:20250330T010000
END:DAYLIGHT
BEGIN:STANDARD
TZOFFSETFROM:+0200
TZOFFSETTO:+0100
TZNAME:CET
DTSTART:20251026T010000
END:STANDARD
BEGIN:DAYLIGHT
TZOFFSETFROM:+0100
TZOFFSETTO:+0200
TZNAME:CEST
DTSTART:20260329T010000
END:DAYLIGHT
BEGIN:STANDARD
TZOFFSETFROM:+0200
TZOFFSETTO:+0100
TZNAME:CET
DTSTART:20261025T010000
END:STANDARD
BEGIN:DAYLIGHT
TZOFFSETFROM:+0100
TZOFFSETTO:+0200
TZNAME:CEST
DTSTART:20270328T010000
END:DAYLIGHT
BEGIN:STANDARD
TZOFFSETFROM:+0200
TZOFFSETTO:+0100
TZNAME:CET
DTSTART:20271031T010000
END:STANDARD
END:VTIMEZONE
BEGIN:VEVENT
DTSTART;TZID=Europe/Berlin:20260423T210000
DTEND;TZID=Europe/Berlin:20260423T235900
DTSTAMP:20260421T121512
CREATED:20260416T065203Z
LAST-MODIFIED:20260416T065206Z
UID:2148-1776978000-1776988740@www.marafioti-jazz-berlin.de
SUMMARY:Jazz Concert and Jam Session at Little Stage with the JHS-Trio
DESCRIPTION:Jazz Concert of the JHS-Tio followed by a Jazz Jam Session at Little Stage\, Jonasstr. 1\, 12053 Berlin-Neukölln\, Apr 23 2026 \n\n\n\nJazz Concert of the JHS-Tio followed by a Jazz Jam Session at Little Stage\, Jonasstr. 1\, 12053 Berlin-Neukölln\, Apr 23 2026\n\n\n\n\n\n\n\nAntonello Marafioti\, keysRichard Müller\, double bassFabian Fischer\, drums \n\n\n\n\n\nAntonello Marafioti\, piano https://www.marafioti-jazz-berlin.de/\n\n\n\n\n\nRichard Müller plays double bass\n\n\n\n\n\nFabian Fischer plays drums
URL:https://www.marafioti-jazz-berlin.de/event/jazz-concert-and-jam-session-at-little-stage-jhs-trio/
LOCATION:Little Stage\, Jonasstrasse 1\, Berlin\, Berlin\, 12053\, Germany
CATEGORIES:Jazz Music
ATTACH;FMTTYPE=image/png:https://www.marafioti-jazz-berlin.de/wp-content/uploads/2026/04/bannereventfb_jhs_TRIO_fischer.png
END:VEVENT
END:VCALENDAR